BEGIN:VCALENDAR
VERSION:2.0
PRODID:-//Restaurante Paparajote - ECPv6.15.19//NONSGML v1.0//EN
CALSCALE:GREGORIAN
METHOD:PUBLISH
X-WR-CALNAME:Restaurante Paparajote
X-ORIGINAL-URL:https://restaurantepaparajote.com
X-WR-CALDESC:Eventos para Restaurante Paparajote
REFRESH-INTERVAL;VALUE=DURATION:PT1H
X-Robots-Tag:noindex
X-PUBLISHED-TTL:PT1H
BEGIN:VTIMEZONE
TZID:Europe/Madrid
BEGIN:DAYLIGHT
TZOFFSETFROM:+0100
TZOFFSETTO:+0200
TZNAME:CEST
DTSTART:20250330T010000
END:DAYLIGHT
BEGIN:STANDARD
TZOFFSETFROM:+0200
TZOFFSETTO:+0100
TZNAME:CET
DTSTART:20251026T010000
END:STANDARD
BEGIN:DAYLIGHT
TZOFFSETFROM:+0100
TZOFFSETTO:+0200
TZNAME:CEST
DTSTART:20260329T010000
END:DAYLIGHT
BEGIN:STANDARD
TZOFFSETFROM:+0200
TZOFFSETTO:+0100
TZNAME:CET
DTSTART:20261025T010000
END:STANDARD
BEGIN:DAYLIGHT
TZOFFSETFROM:+0100
TZOFFSETTO:+0200
TZNAME:CEST
DTSTART:20270328T010000
END:DAYLIGHT
BEGIN:STANDARD
TZOFFSETFROM:+0200
TZOFFSETTO:+0100
TZNAME:CET
DTSTART:20271031T010000
END:STANDARD
END:VTIMEZONE
BEGIN:VEVENT
DTSTART;TZID=Europe/Madrid:20260423T180000
DTEND;TZID=Europe/Madrid:20260423T200000
DTSTAMP:20260426T001008
CREATED:20260422T072511Z
LAST-MODIFIED:20260422T072822Z
UID:10000002-1776967200-1776974400@restaurantepaparajote.com
SUMMARY:Conversatorio por el día de la visibilidad lésbica.
DESCRIPTION:Conversatorio por el Día de la Visibilidad Lésbica \nEste jueves 23 de abril a las 18:30 h\, en Paparajote Lounge\, te invitamos a un encuentro único donde hablaremos sobre vivir y trabajar en visibilidad. \nContaremos con mujeres referentes que compartirán sus experiencias personales y profesionales en un espacio cercano\, inspirador y necesario. \nUn evento para reflexionar\, aprender y celebrar la diversidad. \nPaparajote Lounge (Avd. Juan Carlos I\, 12)🌈
URL:https://restaurantepaparajote.com/events/conversatorio-por-el-dia-de-la-visibilidad-lesbica/
ORGANIZER;CN="Paparajote Restaurante":MAILTO:info@restaurantepaparajote.com/
END:VEVENT
END:VCALENDAR