BEGIN:VCALENDAR
VERSION:2.0
PRODID:-//Restaurante Paparajote - ECPv6.15.19//NONSGML v1.0//EN
CALSCALE:GREGORIAN
METHOD:PUBLISH
X-WR-CALNAME:Restaurante Paparajote
X-ORIGINAL-URL:https://restaurantepaparajote.com
X-WR-CALDESC:Eventos para Restaurante Paparajote
REFRESH-INTERVAL;VALUE=DURATION:PT1H
X-Robots-Tag:noindex
X-PUBLISHED-TTL:PT1H
BEGIN:VTIMEZONE
TZID:Europe/Madrid
BEGIN:DAYLIGHT
TZOFFSETFROM:+0100
TZOFFSETTO:+0200
TZNAME:CEST
DTSTART:20250330T010000
END:DAYLIGHT
BEGIN:STANDARD
TZOFFSETFROM:+0200
TZOFFSETTO:+0100
TZNAME:CET
DTSTART:20251026T010000
END:STANDARD
BEGIN:DAYLIGHT
TZOFFSETFROM:+0100
TZOFFSETTO:+0200
TZNAME:CEST
DTSTART:20260329T010000
END:DAYLIGHT
BEGIN:STANDARD
TZOFFSETFROM:+0200
TZOFFSETTO:+0100
TZNAME:CET
DTSTART:20261025T010000
END:STANDARD
BEGIN:DAYLIGHT
TZOFFSETFROM:+0100
TZOFFSETTO:+0200
TZNAME:CEST
DTSTART:20270328T010000
END:DAYLIGHT
BEGIN:STANDARD
TZOFFSETFROM:+0200
TZOFFSETTO:+0100
TZNAME:CET
DTSTART:20271031T010000
END:STANDARD
END:VTIMEZONE
BEGIN:VEVENT
DTSTART;TZID=Europe/Madrid:20260508T190000
DTEND;TZID=Europe/Madrid:20260508T203000
DTSTAMP:20260425T182021
CREATED:20260424T100942Z
LAST-MODIFIED:20260424T100942Z
UID:10000003-1778266800-1778272200@restaurantepaparajote.com
SUMMARY:Club de lectura.
DESCRIPTION:«La sombra de la duda»\, J. M. Redmann. \nPróxima cita el viernes 8 de Mayo a las 19:00h en el salón de Paparajote Lounge.
URL:https://restaurantepaparajote.com/events/club-de-lectura/
LOCATION:Paparajote Restaurante\, AVD. Juan Carlos I\, 12\, Murcia\, Murcia\, 30008\, Spain
ORGANIZER;CN="Paparajote Restaurante":MAILTO:info@restaurantepaparajote.com/
END:VEVENT
END:VCALENDAR